BEGIN:VCALENDAR
VERSION:2.0
PRODID: -//Q4 Inc.//EN
METHOD:PUBLISH
BEGIN:VTIMEZONE
TZID:America/New_York
X-LIC-LOCATION:America/New_York
BEGIN:DAYLIGHT
TZOFFSETFROM:-0500
TZOFFSETTO:-0400
TZNAME:EDT
DTSTART:19700308T020000
RRULE:FREQ=YEARLY;BYMONTH=3;BYDAY=2SU
END:DAYLIGHT
BEGIN:STANDARD
TZOFFSETFROM:-0400
TZOFFSETTO:-0500
TZNAME:EST
DTSTART:19701101T020000
RRULE:FREQ=YEARLY;BYMONTH=11;BYDAY=1SU
END:STANDARD
END:VTIMEZONE
BEGIN:VEVENT
ORGANIZER:MAILTO:no-reply@alamosgold.com
DTSTART;TZID="America/New_York":20250513T000000
DTEND;TZID="America/New_York":20250514T000000
LOCATION:Barcelona, Spain
UID:06b7a2a7-ed6c-49e6-8cf8-0dea4792e3c9
DTSTAMP:20260424T110847
SUMMARY:BofA Securities Global Metals, Mining & Steel Conference 2025
DESCRIPTION: View More Information: https://www.alamosgold.com/news-and-events/events-and-webcasts/event-details/2025/BofA-Securities-Global-Metals-Mining--Steel-Conference-2025/default.aspx
URL;VALUE=URI:https://www.alamosgold.com/news-and-events/events-and-webcasts/event-details/2025/BofA-Securities-Global-Metals-Mining--Steel-Conference-2025/default.aspx
PRIORITY:5
CLASS:PUBLIC
END:VEVENT
END:VCALENDAR
